BEGIN:VCALENDAR
VERSION:2.0
PRODID:-//Zahra Foundation Australia - ECPv4.8.0.1//NONSGML v1.0//EN
CALSCALE:GREGORIAN
METHOD:PUBLISH
X-WR-CALNAME:Zahra Foundation Australia
X-ORIGINAL-URL:http://zahrafoundation.org.au
X-WR-CALDESC:Events for Zahra Foundation Australia
BEGIN:VEVENT
DTSTART;VALUE=DATE:20181221
DTEND;VALUE=DATE:20190114
DTSTAMP:20190227T225233
CREATED:20180920T070218Z
LAST-MODIFIED:20180920T070410Z
UID:1190-1545350400-1547423999@zahrafoundation.org.au
SUMMARY:Closed for Holidays
DESCRIPTION:
URL:http://zahrafoundation.org.au/event/closed-for-holidays/
END:VEVENT
END:VCALENDAR