BEGIN:VCALENDAR
VERSION:2.0
PRODID:-//Zahra Foundation Australia - ECPv4.8.0.1//NONSGML v1.0//EN
CALSCALE:GREGORIAN
METHOD:PUBLISH
X-WR-CALNAME:Zahra Foundation Australia
X-ORIGINAL-URL:http://zahrafoundation.org.au
X-WR-CALDESC:Events for Zahra Foundation Australia
BEGIN:VEVENT
DTSTART;VALUE=DATE:20190128
DTEND;VALUE=DATE:20190129
DTSTAMP:20190227T222121
CREATED:20190125T024629Z
LAST-MODIFIED:20190125T024629Z
UID:1289-1548633600-1548719999@zahrafoundation.org.au
SUMMARY:Public Holiday
DESCRIPTION:
URL:http://zahrafoundation.org.au/event/public-holiday/
END:VEVENT
END:VCALENDAR