BEGIN:VCALENDAR
VERSION:2.0
PRODID:-//Zahra Foundation Australia - ECPv4.8.0.1//NONSGML v1.0//EN
CALSCALE:GREGORIAN
METHOD:PUBLISH
X-WR-CALNAME:Zahra Foundation Australia
X-ORIGINAL-URL:http://zahrafoundation.org.au
X-WR-CALDESC:Events for Zahra Foundation Australia
BEGIN:VEVENT
DTSTART;VALUE=DATE:20190205
DTEND;VALUE=DATE:20190206
DTSTAMP:20190227T222250
CREATED:20190125T022137Z
LAST-MODIFIED:20190125T022137Z
UID:1239-1549324800-1549411199@zahrafoundation.org.au
SUMMARY:Pathways to Empowerment (Central)
DESCRIPTION:Central Flier Pathways to Empowerment Term 1 2019 \n
URL:http://zahrafoundation.org.au/event/pathways-to-empowerment-central/
END:VEVENT
END:VCALENDAR