BEGIN:VCALENDAR
VERSION:2.0
PRODID:-//Zahra Foundation Australia - ECPv4.8.0.1//NONSGML v1.0//EN
CALSCALE:GREGORIAN
METHOD:PUBLISH
X-WR-CALNAME:Zahra Foundation Australia
X-ORIGINAL-URL:http://zahrafoundation.org.au
X-WR-CALDESC:Events for Zahra Foundation Australia
BEGIN:VEVENT
DTSTART;VALUE=DATE:20190206
DTEND;VALUE=DATE:20190207
DTSTAMP:20190227T222405
CREATED:20190125T022235Z
LAST-MODIFIED:20190125T024241Z
UID:1242-1549411200-1549497599@zahrafoundation.org.au
SUMMARY:Pathway to Empowerment (South)
DESCRIPTION:Southern Flyer Pathways to Empowerment Term 1 2019 \n
URL:http://zahrafoundation.org.au/event/pathway-to-empowerment-hackham/
END:VEVENT
END:VCALENDAR