BEGIN:VCALENDAR
VERSION:2.0
PRODID:-//Zahra Foundation Australia - ECPv4.8.0.1//NONSGML v1.0//EN
CALSCALE:GREGORIAN
METHOD:PUBLISH
X-WR-CALNAME:Zahra Foundation Australia
X-ORIGINAL-URL:http://zahrafoundation.org.au
X-WR-CALDESC:Events for Zahra Foundation Australia
BEGIN:VEVENT
DTSTART;TZID=UTC+9.5:20190226T080000
DTEND;TZID=UTC+9.5:20190226T170000
DTSTAMP:20190227T223547
CREATED:20190125T022924Z
LAST-MODIFIED:20190125T022924Z
UID:1253-1551168000-1551200400@zahrafoundation.org.au
SUMMARY:Pathway to Empowerment (Central)
DESCRIPTION:
URL:http://zahrafoundation.org.au/event/pathway-to-empowerment-central-5/
END:VEVENT
END:VCALENDAR