BEGIN:VCALENDAR
VERSION:2.0
PRODID:-//Zahra Foundation Australia - ECPv4.8.0.1//NONSGML v1.0//EN
CALSCALE:GREGORIAN
METHOD:PUBLISH
X-WR-CALNAME:Zahra Foundation Australia
X-ORIGINAL-URL:http://zahrafoundation.org.au
X-WR-CALDESC:Events for Zahra Foundation Australia
BEGIN:VEVENT
DTSTART;VALUE=DATE:20190227
DTEND;VALUE=DATE:20190228
DTSTAMP:20190227T223655
CREATED:20190125T024442Z
LAST-MODIFIED:20190125T024442Z
UID:1285-1551225600-1551311999@zahrafoundation.org.au
SUMMARY:Pathway to Empowerment (South)
DESCRIPTION:
URL:http://zahrafoundation.org.au/event/pathway-to-empowerment-south-2/
END:VEVENT
END:VCALENDAR